BEGIN:VCALENDAR
VERSION:2.0
PRODID:-//Bildungsplan Brandenburg - ECPv6.9.0//NONSGML v1.0//EN
CALSCALE:GREGORIAN
METHOD:PUBLISH
X-WR-CALNAME:Bildungsplan Brandenburg
X-ORIGINAL-URL:https://backup.kallovsky.de
X-WR-CALDESC:Veranstaltungen für Bildungsplan Brandenburg
REFRESH-INTERVAL;VALUE=DURATION:PT1H
X-Robots-Tag:noindex
X-PUBLISHED-TTL:PT1H
BEGIN:VTIMEZONE
TZID:Europe/Berlin
BEGIN:DAYLIGHT
TZOFFSETFROM:+0100
TZOFFSETTO:+0200
TZNAME:CEST
DTSTART:20250330T010000
END:DAYLIGHT
BEGIN:STANDARD
TZOFFSETFROM:+0200
TZOFFSETTO:+0100
TZNAME:CET
DTSTART:20251026T010000
END:STANDARD
END:VTIMEZONE
BEGIN:VEVENT
DTSTART;TZID=Europe/Berlin:20250103T080000
DTEND;TZID=Europe/Berlin:20250103T170000
DTSTAMP:20260425T123441
CREATED:20250103T173011Z
LAST-MODIFIED:20250103T173011Z
UID:10000039-1735891200-1735923600@backup.kallovsky.de
SUMMARY:Erweiterte Grundsätze elementarer Bildung: Zentrale Autonomiesituationen (Romy Schönfeld)
DESCRIPTION:In den „Erweiterten Grundsätze elementarer Bildung“ sind altersübergreifend und z.T. auch altersspezifisch Leitlinien zu einem inklusiven\, feinfühligen\, partizipativen und an Kinderrechten orientiertem pädagogischen Handeln in den wichtigsten Alltagssituationen von Einrichtungen der Kindertagesbetreuung im Land Brandenburg formuliert. Zentral ist dabei die systematische Verknüpfung der Alltagssituationen mit den Bildungsbereichen. \nBeispielhaft und praxisnah werden pädagogische Handlungen beschrieben\, die z.B. durch Kinderaussagen oder Praxisbeispiele untermauert werden. In dieser Veranstaltung soll zunächst auf das Bildungsverständnis\, die kinderrechtliche und fachliche Einordnung sowie die Logik des neuen Bildungsplans eingegangen werden. Dabei wird vordergründig thematisiert\, wie sich Fachkräfte darin orientieren können\, wo sie sich schnell und unkompliziert zu spezifischen Themen empfohlene pädagogische Handlungsweisen erlesen können. \nDanach sollen Alltagssituationen\, wie Spielen\, Essen\, Bad und Hygiene sowie Ausruhen und Schlafen zum Thema werden\, die als „Zentrale Autonomiesituationen“ bezeichnet werden. Dabei soll es neben den fachlichen Standards auch um die Möglichkeiten gehen\, wie es Fachkräften gelingen kann\, den neuen Bildungsplan zur Reflektion und Qualitätsentwicklung im Team oder in der Zusammenarbeit mit Familien zu nutzen.
URL:https://backup.kallovsky.de/event/erweiterte-grundsaetze-elementarer-bildung-zentrale-autonomiesituationen-romy-schoenfeld/
END:VEVENT
BEGIN:VEVENT
DTSTART;TZID=Europe/Berlin:20250114T013000
DTEND;TZID=Europe/Berlin:20250114T021000
DTSTAMP:20260425T123441
CREATED:20250104T114030Z
LAST-MODIFIED:20250104T122948Z
UID:10000054-1736818200-1736820600@backup.kallovsky.de
SUMMARY:Neuer Kurs112
DESCRIPTION:13243521211
URL:https://backup.kallovsky.de/event/neuer-kurs123/
END:VEVENT
END:VCALENDAR